BEGIN:VCALENDAR
VERSION:2.0
PRODID:-//Skagit Valley Tulip Festival - ECPv6.15.20//NONSGML v1.0//EN
CALSCALE:GREGORIAN
METHOD:PUBLISH
X-WR-CALNAME:Skagit Valley Tulip Festival
X-ORIGINAL-URL:https://tulipfestival.org
X-WR-CALDESC:Events for Skagit Valley Tulip Festival
REFRESH-INTERVAL;VALUE=DURATION:PT1H
X-Robots-Tag:noindex
X-PUBLISHED-TTL:PT1H
BEGIN:VTIMEZONE
TZID:America/Los_Angeles
BEGIN:DAYLIGHT
TZOFFSETFROM:-0800
TZOFFSETTO:-0700
TZNAME:PDT
DTSTART:20240310T100000
END:DAYLIGHT
BEGIN:STANDARD
TZOFFSETFROM:-0700
TZOFFSETTO:-0800
TZNAME:PST
DTSTART:20241103T090000
END:STANDARD
BEGIN:DAYLIGHT
TZOFFSETFROM:-0800
TZOFFSETTO:-0700
TZNAME:PDT
DTSTART:20250309T100000
END:DAYLIGHT
BEGIN:STANDARD
TZOFFSETFROM:-0700
TZOFFSETTO:-0800
TZNAME:PST
DTSTART:20251102T090000
END:STANDARD
BEGIN:DAYLIGHT
TZOFFSETFROM:-0800
TZOFFSETTO:-0700
TZNAME:PDT
DTSTART:20260308T100000
END:DAYLIGHT
BEGIN:STANDARD
TZOFFSETFROM:-0700
TZOFFSETTO:-0800
TZNAME:PST
DTSTART:20261101T090000
END:STANDARD
BEGIN:DAYLIGHT
TZOFFSETFROM:-0800
TZOFFSETTO:-0700
TZNAME:PDT
DTSTART:20270314T100000
END:DAYLIGHT
BEGIN:STANDARD
TZOFFSETFROM:-0700
TZOFFSETTO:-0800
TZNAME:PST
DTSTART:20271107T090000
END:STANDARD
END:VTIMEZONE
BEGIN:VEVENT
DTSTART;TZID=America/Los_Angeles:20260421T100000
DTEND;TZID=America/Los_Angeles:20260421T170000
DTSTAMP:20260422T150509
CREATED:20260206T171356Z
LAST-MODIFIED:20260401T182456Z
UID:10000148-1776765600-1776790800@tulipfestival.org
SUMMARY:Art in a Pickle Barn
DESCRIPTION:Discover local artists and handcrafters at the Bakery Barn across from Schuh Farms in Mount Vernon\, featuring art in every medium\, and a student scholarship display. \nFree entry & free parking on site. Tour groups are welcome!
URL:https://tulipfestival.org/event/art-in-a-pickle-barn/2026-04-21/
LOCATION:Schuh Farms\, 15530 WA-536th\, Mount Vernon\, WA\, 98273\, United States
ATTACH;FMTTYPE=image/jpeg:https://tulipfestival.org/wp-content/uploads/2023/12/art-in-a-pickle-barn.jpg
END:VEVENT
BEGIN:VEVENT
DTSTART;TZID=America/Los_Angeles:20260420T100000
DTEND;TZID=America/Los_Angeles:20260420T170000
DTSTAMP:20260422T150509
CREATED:20260206T171356Z
LAST-MODIFIED:20260401T182456Z
UID:10000147-1776679200-1776704400@tulipfestival.org
SUMMARY:Art in a Pickle Barn
DESCRIPTION:Discover local artists and handcrafters at the Bakery Barn across from Schuh Farms in Mount Vernon\, featuring art in every medium\, and a student scholarship display. \nFree entry & free parking on site. Tour groups are welcome!
URL:https://tulipfestival.org/event/art-in-a-pickle-barn/2026-04-20/
LOCATION:Schuh Farms\, 15530 WA-536th\, Mount Vernon\, WA\, 98273\, United States
ATTACH;FMTTYPE=image/jpeg:https://tulipfestival.org/wp-content/uploads/2023/12/art-in-a-pickle-barn.jpg
END:VEVENT
BEGIN:VEVENT
DTSTART;TZID=America/Los_Angeles:20260419T100000
DTEND;TZID=America/Los_Angeles:20260419T170000
DTSTAMP:20260422T150509
CREATED:20260206T171356Z
LAST-MODIFIED:20260401T182456Z
UID:10000146-1776592800-1776618000@tulipfestival.org
SUMMARY:Art in a Pickle Barn
DESCRIPTION:Discover local artists and handcrafters at the Bakery Barn across from Schuh Farms in Mount Vernon\, featuring art in every medium\, and a student scholarship display. \nFree entry & free parking on site. Tour groups are welcome!
URL:https://tulipfestival.org/event/art-in-a-pickle-barn/2026-04-19/
LOCATION:Schuh Farms\, 15530 WA-536th\, Mount Vernon\, WA\, 98273\, United States
ATTACH;FMTTYPE=image/jpeg:https://tulipfestival.org/wp-content/uploads/2023/12/art-in-a-pickle-barn.jpg
END:VEVENT
BEGIN:VEVENT
DTSTART;TZID=America/Los_Angeles:20260418T100000
DTEND;TZID=America/Los_Angeles:20260418T170000
DTSTAMP:20260422T150509
CREATED:20260206T171356Z
LAST-MODIFIED:20260401T182456Z
UID:10000145-1776506400-1776531600@tulipfestival.org
SUMMARY:Art in a Pickle Barn
DESCRIPTION:Discover local artists and handcrafters at the Bakery Barn across from Schuh Farms in Mount Vernon\, featuring art in every medium\, and a student scholarship display. \nFree entry & free parking on site. Tour groups are welcome!
URL:https://tulipfestival.org/event/art-in-a-pickle-barn/2026-04-18/
LOCATION:Schuh Farms\, 15530 WA-536th\, Mount Vernon\, WA\, 98273\, United States
ATTACH;FMTTYPE=image/jpeg:https://tulipfestival.org/wp-content/uploads/2023/12/art-in-a-pickle-barn.jpg
END:VEVENT
BEGIN:VEVENT
DTSTART;TZID=America/Los_Angeles:20260417T100000
DTEND;TZID=America/Los_Angeles:20260417T170000
DTSTAMP:20260422T150509
CREATED:20260206T171356Z
LAST-MODIFIED:20260401T182456Z
UID:10000144-1776420000-1776445200@tulipfestival.org
SUMMARY:Art in a Pickle Barn
DESCRIPTION:Discover local artists and handcrafters at the Bakery Barn across from Schuh Farms in Mount Vernon\, featuring art in every medium\, and a student scholarship display. \nFree entry & free parking on site. Tour groups are welcome!
URL:https://tulipfestival.org/event/art-in-a-pickle-barn/2026-04-17/
LOCATION:Schuh Farms\, 15530 WA-536th\, Mount Vernon\, WA\, 98273\, United States
ATTACH;FMTTYPE=image/jpeg:https://tulipfestival.org/wp-content/uploads/2023/12/art-in-a-pickle-barn.jpg
END:VEVENT
BEGIN:VEVENT
DTSTART;TZID=America/Los_Angeles:20260416T100000
DTEND;TZID=America/Los_Angeles:20260416T170000
DTSTAMP:20260422T150509
CREATED:20260206T171356Z
LAST-MODIFIED:20260401T182456Z
UID:10000143-1776333600-1776358800@tulipfestival.org
SUMMARY:Art in a Pickle Barn
DESCRIPTION:Discover local artists and handcrafters at the Bakery Barn across from Schuh Farms in Mount Vernon\, featuring art in every medium\, and a student scholarship display. \nFree entry & free parking on site. Tour groups are welcome!
URL:https://tulipfestival.org/event/art-in-a-pickle-barn/2026-04-16/
LOCATION:Schuh Farms\, 15530 WA-536th\, Mount Vernon\, WA\, 98273\, United States
ATTACH;FMTTYPE=image/jpeg:https://tulipfestival.org/wp-content/uploads/2023/12/art-in-a-pickle-barn.jpg
END:VEVENT
BEGIN:VEVENT
DTSTART;TZID=America/Los_Angeles:20260415T100000
DTEND;TZID=America/Los_Angeles:20260415T170000
DTSTAMP:20260422T150509
CREATED:20260206T171356Z
LAST-MODIFIED:20260401T182456Z
UID:10000142-1776247200-1776272400@tulipfestival.org
SUMMARY:Art in a Pickle Barn
DESCRIPTION:Discover local artists and handcrafters at the Bakery Barn across from Schuh Farms in Mount Vernon\, featuring art in every medium\, and a student scholarship display. \nFree entry & free parking on site. Tour groups are welcome!
URL:https://tulipfestival.org/event/art-in-a-pickle-barn/2026-04-15/
LOCATION:Schuh Farms\, 15530 WA-536th\, Mount Vernon\, WA\, 98273\, United States
ATTACH;FMTTYPE=image/jpeg:https://tulipfestival.org/wp-content/uploads/2023/12/art-in-a-pickle-barn.jpg
END:VEVENT
BEGIN:VEVENT
DTSTART;TZID=America/Los_Angeles:20260414T100000
DTEND;TZID=America/Los_Angeles:20260414T170000
DTSTAMP:20260422T150509
CREATED:20260206T171356Z
LAST-MODIFIED:20260401T182456Z
UID:10000141-1776160800-1776186000@tulipfestival.org
SUMMARY:Art in a Pickle Barn
DESCRIPTION:Discover local artists and handcrafters at the Bakery Barn across from Schuh Farms in Mount Vernon\, featuring art in every medium\, and a student scholarship display. \nFree entry & free parking on site. Tour groups are welcome!
URL:https://tulipfestival.org/event/art-in-a-pickle-barn/2026-04-14/
LOCATION:Schuh Farms\, 15530 WA-536th\, Mount Vernon\, WA\, 98273\, United States
ATTACH;FMTTYPE=image/jpeg:https://tulipfestival.org/wp-content/uploads/2023/12/art-in-a-pickle-barn.jpg
END:VEVENT
BEGIN:VEVENT
DTSTART;TZID=America/Los_Angeles:20260413T100000
DTEND;TZID=America/Los_Angeles:20260413T170000
DTSTAMP:20260422T150509
CREATED:20260206T171356Z
LAST-MODIFIED:20260401T182456Z
UID:10000140-1776074400-1776099600@tulipfestival.org
SUMMARY:Art in a Pickle Barn
DESCRIPTION:Discover local artists and handcrafters at the Bakery Barn across from Schuh Farms in Mount Vernon\, featuring art in every medium\, and a student scholarship display. \nFree entry & free parking on site. Tour groups are welcome!
URL:https://tulipfestival.org/event/art-in-a-pickle-barn/2026-04-13/
LOCATION:Schuh Farms\, 15530 WA-536th\, Mount Vernon\, WA\, 98273\, United States
ATTACH;FMTTYPE=image/jpeg:https://tulipfestival.org/wp-content/uploads/2023/12/art-in-a-pickle-barn.jpg
END:VEVENT
BEGIN:VEVENT
DTSTART;TZID=America/Los_Angeles:20260412T100000
DTEND;TZID=America/Los_Angeles:20260412T170000
DTSTAMP:20260422T150509
CREATED:20260206T171356Z
LAST-MODIFIED:20260401T182456Z
UID:10000139-1775988000-1776013200@tulipfestival.org
SUMMARY:Art in a Pickle Barn
DESCRIPTION:Discover local artists and handcrafters at the Bakery Barn across from Schuh Farms in Mount Vernon\, featuring art in every medium\, and a student scholarship display. \nFree entry & free parking on site. Tour groups are welcome!
URL:https://tulipfestival.org/event/art-in-a-pickle-barn/2026-04-12/
LOCATION:Schuh Farms\, 15530 WA-536th\, Mount Vernon\, WA\, 98273\, United States
ATTACH;FMTTYPE=image/jpeg:https://tulipfestival.org/wp-content/uploads/2023/12/art-in-a-pickle-barn.jpg
END:VEVENT
BEGIN:VEVENT
DTSTART;TZID=America/Los_Angeles:20260411T100000
DTEND;TZID=America/Los_Angeles:20260411T170000
DTSTAMP:20260422T150509
CREATED:20260206T171356Z
LAST-MODIFIED:20260401T182456Z
UID:10000138-1775901600-1775926800@tulipfestival.org
SUMMARY:Art in a Pickle Barn
DESCRIPTION:Discover local artists and handcrafters at the Bakery Barn across from Schuh Farms in Mount Vernon\, featuring art in every medium\, and a student scholarship display. \nFree entry & free parking on site. Tour groups are welcome!
URL:https://tulipfestival.org/event/art-in-a-pickle-barn/2026-04-11/
LOCATION:Schuh Farms\, 15530 WA-536th\, Mount Vernon\, WA\, 98273\, United States
ATTACH;FMTTYPE=image/jpeg:https://tulipfestival.org/wp-content/uploads/2023/12/art-in-a-pickle-barn.jpg
END:VEVENT
BEGIN:VEVENT
DTSTART;TZID=America/Los_Angeles:20260410T100000
DTEND;TZID=America/Los_Angeles:20260410T170000
DTSTAMP:20260422T150509
CREATED:20260206T171356Z
LAST-MODIFIED:20260401T182456Z
UID:10000137-1775815200-1775840400@tulipfestival.org
SUMMARY:Art in a Pickle Barn
DESCRIPTION:Discover local artists and handcrafters at the Bakery Barn across from Schuh Farms in Mount Vernon\, featuring art in every medium\, and a student scholarship display. \nFree entry & free parking on site. Tour groups are welcome!
URL:https://tulipfestival.org/event/art-in-a-pickle-barn/2026-04-10/
LOCATION:Schuh Farms\, 15530 WA-536th\, Mount Vernon\, WA\, 98273\, United States
ATTACH;FMTTYPE=image/jpeg:https://tulipfestival.org/wp-content/uploads/2023/12/art-in-a-pickle-barn.jpg
END:VEVENT
BEGIN:VEVENT
DTSTART;TZID=America/Los_Angeles:20260409T100000
DTEND;TZID=America/Los_Angeles:20260409T170000
DTSTAMP:20260422T150509
CREATED:20260206T171356Z
LAST-MODIFIED:20260401T182456Z
UID:10000136-1775728800-1775754000@tulipfestival.org
SUMMARY:Art in a Pickle Barn
DESCRIPTION:Discover local artists and handcrafters at the Bakery Barn across from Schuh Farms in Mount Vernon\, featuring art in every medium\, and a student scholarship display. \nFree entry & free parking on site. Tour groups are welcome!
URL:https://tulipfestival.org/event/art-in-a-pickle-barn/2026-04-09/
LOCATION:Schuh Farms\, 15530 WA-536th\, Mount Vernon\, WA\, 98273\, United States
ATTACH;FMTTYPE=image/jpeg:https://tulipfestival.org/wp-content/uploads/2023/12/art-in-a-pickle-barn.jpg
END:VEVENT
BEGIN:VEVENT
DTSTART;TZID=America/Los_Angeles:20260408T100000
DTEND;TZID=America/Los_Angeles:20260408T170000
DTSTAMP:20260422T150509
CREATED:20260206T171356Z
LAST-MODIFIED:20260401T182456Z
UID:10000135-1775642400-1775667600@tulipfestival.org
SUMMARY:Art in a Pickle Barn
DESCRIPTION:Discover local artists and handcrafters at the Bakery Barn across from Schuh Farms in Mount Vernon\, featuring art in every medium\, and a student scholarship display. \nFree entry & free parking on site. Tour groups are welcome!
URL:https://tulipfestival.org/event/art-in-a-pickle-barn/2026-04-08/
LOCATION:Schuh Farms\, 15530 WA-536th\, Mount Vernon\, WA\, 98273\, United States
ATTACH;FMTTYPE=image/jpeg:https://tulipfestival.org/wp-content/uploads/2023/12/art-in-a-pickle-barn.jpg
END:VEVENT
BEGIN:VEVENT
DTSTART;TZID=America/Los_Angeles:20260407T100000
DTEND;TZID=America/Los_Angeles:20260407T170000
DTSTAMP:20260422T150509
CREATED:20260206T171356Z
LAST-MODIFIED:20260401T182456Z
UID:10000134-1775556000-1775581200@tulipfestival.org
SUMMARY:Art in a Pickle Barn
DESCRIPTION:Discover local artists and handcrafters at the Bakery Barn across from Schuh Farms in Mount Vernon\, featuring art in every medium\, and a student scholarship display. \nFree entry & free parking on site. Tour groups are welcome!
URL:https://tulipfestival.org/event/art-in-a-pickle-barn/2026-04-07/
LOCATION:Schuh Farms\, 15530 WA-536th\, Mount Vernon\, WA\, 98273\, United States
ATTACH;FMTTYPE=image/jpeg:https://tulipfestival.org/wp-content/uploads/2023/12/art-in-a-pickle-barn.jpg
END:VEVENT
BEGIN:VEVENT
DTSTART;TZID=America/Los_Angeles:20260406T100000
DTEND;TZID=America/Los_Angeles:20260406T170000
DTSTAMP:20260422T150509
CREATED:20260206T171356Z
LAST-MODIFIED:20260401T182456Z
UID:10000133-1775469600-1775494800@tulipfestival.org
SUMMARY:Art in a Pickle Barn
DESCRIPTION:Discover local artists and handcrafters at the Bakery Barn across from Schuh Farms in Mount Vernon\, featuring art in every medium\, and a student scholarship display. \nFree entry & free parking on site. Tour groups are welcome!
URL:https://tulipfestival.org/event/art-in-a-pickle-barn/2026-04-06/
LOCATION:Schuh Farms\, 15530 WA-536th\, Mount Vernon\, WA\, 98273\, United States
ATTACH;FMTTYPE=image/jpeg:https://tulipfestival.org/wp-content/uploads/2023/12/art-in-a-pickle-barn.jpg
END:VEVENT
BEGIN:VEVENT
DTSTART;TZID=America/Los_Angeles:20260405T100000
DTEND;TZID=America/Los_Angeles:20260405T170000
DTSTAMP:20260422T150509
CREATED:20260206T171356Z
LAST-MODIFIED:20260401T182456Z
UID:10000132-1775383200-1775408400@tulipfestival.org
SUMMARY:Art in a Pickle Barn
DESCRIPTION:Discover local artists and handcrafters at the Bakery Barn across from Schuh Farms in Mount Vernon\, featuring art in every medium\, and a student scholarship display. \nFree entry & free parking on site. Tour groups are welcome!
URL:https://tulipfestival.org/event/art-in-a-pickle-barn/2026-04-05/
LOCATION:Schuh Farms\, 15530 WA-536th\, Mount Vernon\, WA\, 98273\, United States
ATTACH;FMTTYPE=image/jpeg:https://tulipfestival.org/wp-content/uploads/2023/12/art-in-a-pickle-barn.jpg
END:VEVENT
BEGIN:VEVENT
DTSTART;TZID=America/Los_Angeles:20260404T100000
DTEND;TZID=America/Los_Angeles:20260404T170000
DTSTAMP:20260422T150509
CREATED:20260206T171356Z
LAST-MODIFIED:20260401T182456Z
UID:10000131-1775296800-1775322000@tulipfestival.org
SUMMARY:Art in a Pickle Barn
DESCRIPTION:Discover local artists and handcrafters at the Bakery Barn across from Schuh Farms in Mount Vernon\, featuring art in every medium\, and a student scholarship display. \nFree entry & free parking on site. Tour groups are welcome!
URL:https://tulipfestival.org/event/art-in-a-pickle-barn/2026-04-04/
LOCATION:Schuh Farms\, 15530 WA-536th\, Mount Vernon\, WA\, 98273\, United States
ATTACH;FMTTYPE=image/jpeg:https://tulipfestival.org/wp-content/uploads/2023/12/art-in-a-pickle-barn.jpg
END:VEVENT
BEGIN:VEVENT
DTSTART;TZID=America/Los_Angeles:20260403T100000
DTEND;TZID=America/Los_Angeles:20260403T170000
DTSTAMP:20260422T150509
CREATED:20260206T171356Z
LAST-MODIFIED:20260401T182456Z
UID:10000130-1775210400-1775235600@tulipfestival.org
SUMMARY:Art in a Pickle Barn
DESCRIPTION:Discover local artists and handcrafters at the Bakery Barn across from Schuh Farms in Mount Vernon\, featuring art in every medium\, and a student scholarship display. \nFree entry & free parking on site. Tour groups are welcome!
URL:https://tulipfestival.org/event/art-in-a-pickle-barn/2026-04-03/
LOCATION:Schuh Farms\, 15530 WA-536th\, Mount Vernon\, WA\, 98273\, United States
ATTACH;FMTTYPE=image/jpeg:https://tulipfestival.org/wp-content/uploads/2023/12/art-in-a-pickle-barn.jpg
END:VEVENT
BEGIN:VEVENT
DTSTART;TZID=America/Los_Angeles:20260402T100000
DTEND;TZID=America/Los_Angeles:20260402T170000
DTSTAMP:20260422T150509
CREATED:20260206T171356Z
LAST-MODIFIED:20260401T182456Z
UID:10000129-1775124000-1775149200@tulipfestival.org
SUMMARY:Art in a Pickle Barn
DESCRIPTION:Discover local artists and handcrafters at the Bakery Barn across from Schuh Farms in Mount Vernon\, featuring art in every medium\, and a student scholarship display. \nFree entry & free parking on site. Tour groups are welcome!
URL:https://tulipfestival.org/event/art-in-a-pickle-barn/2026-04-02/
LOCATION:Schuh Farms\, 15530 WA-536th\, Mount Vernon\, WA\, 98273\, United States
ATTACH;FMTTYPE=image/jpeg:https://tulipfestival.org/wp-content/uploads/2023/12/art-in-a-pickle-barn.jpg
END:VEVENT
BEGIN:VEVENT
DTSTART;TZID=America/Los_Angeles:20260401T100000
DTEND;TZID=America/Los_Angeles:20260401T170000
DTSTAMP:20260422T150509
CREATED:20260206T171356Z
LAST-MODIFIED:20260401T182456Z
UID:10000128-1775037600-1775062800@tulipfestival.org
SUMMARY:Art in a Pickle Barn
DESCRIPTION:Discover local artists and handcrafters at the Bakery Barn across from Schuh Farms in Mount Vernon\, featuring art in every medium\, and a student scholarship display. \nFree entry & free parking on site. Tour groups are welcome!
URL:https://tulipfestival.org/event/art-in-a-pickle-barn/2026-04-01/
LOCATION:Schuh Farms\, 15530 WA-536th\, Mount Vernon\, WA\, 98273\, United States
ATTACH;FMTTYPE=image/jpeg:https://tulipfestival.org/wp-content/uploads/2023/12/art-in-a-pickle-barn.jpg
END:VEVENT
BEGIN:VEVENT
DTSTART;TZID=America/Los_Angeles:20250329T100000
DTEND;TZID=America/Los_Angeles:20250430T170000
DTSTAMP:20260422T150509
CREATED:20250129T224845Z
LAST-MODIFIED:20260324T002848Z
UID:10000072-1743242400-1746032400@tulipfestival.org
SUMMARY:Art in a Pickle Barn
DESCRIPTION:Stop in and discover your favorite local artists and handcrafters showcasing their latest creations. You’ll meet the artists and browse through a variety of available works\, including 2D and 3D art\, jewelry\, glass\, fiber arts\, woodwork\, photography\, soaps\, ceramics and much more! The non-profit SAA awards a scholarship to a local art student each year\, and their art is on display as well! We are open throughout the MONTH OF APRIL during the Skagit Valley Tulip Festival. Located across from Schuh Farms in Mount Vernon at the Bakery Barn. \nMarch 29th-April 30th; open daily from 10AM-5PM. No entrance fee and plenty of free parking.
URL:https://tulipfestival.org/event/art-in-a-pickle-barn-2025/
LOCATION:Schuh Farms\, 15530 WA-536th\, Mount Vernon\, WA\, 98273\, United States
END:VEVENT
END:VCALENDAR