BEGIN:VCALENDAR
VERSION:2.0
PRODID:-//Skagit Valley Tulip Festival - ECPv6.15.20//NONSGML v1.0//EN
CALSCALE:GREGORIAN
METHOD:PUBLISH
X-WR-CALNAME:Skagit Valley Tulip Festival
X-ORIGINAL-URL:https://tulipfestival.org
X-WR-CALDESC:Events for Skagit Valley Tulip Festival
REFRESH-INTERVAL;VALUE=DURATION:PT1H
X-Robots-Tag:noindex
X-PUBLISHED-TTL:PT1H
BEGIN:VTIMEZONE
TZID:America/Los_Angeles
BEGIN:DAYLIGHT
TZOFFSETFROM:-0800
TZOFFSETTO:-0700
TZNAME:PDT
DTSTART:20250309T100000
END:DAYLIGHT
BEGIN:STANDARD
TZOFFSETFROM:-0700
TZOFFSETTO:-0800
TZNAME:PST
DTSTART:20251102T090000
END:STANDARD
BEGIN:DAYLIGHT
TZOFFSETFROM:-0800
TZOFFSETTO:-0700
TZNAME:PDT
DTSTART:20260308T100000
END:DAYLIGHT
BEGIN:STANDARD
TZOFFSETFROM:-0700
TZOFFSETTO:-0800
TZNAME:PST
DTSTART:20261101T090000
END:STANDARD
BEGIN:DAYLIGHT
TZOFFSETFROM:-0800
TZOFFSETTO:-0700
TZNAME:PDT
DTSTART:20270314T100000
END:DAYLIGHT
BEGIN:STANDARD
TZOFFSETFROM:-0700
TZOFFSETTO:-0800
TZNAME:PST
DTSTART:20271107T090000
END:STANDARD
END:VTIMEZONE
BEGIN:VEVENT
DTSTART;TZID=America/Los_Angeles:20260212T173000
DTEND;TZID=America/Los_Angeles:20260212T190000
DTSTAMP:20260422T090428
CREATED:20251029T224923Z
LAST-MODIFIED:20260318T080750Z
UID:10000097-1770917400-1770922800@tulipfestival.org
SUMMARY:Tulip Festival Ambassador Audition
DESCRIPTION:Presented by HF Sinclair Puget Sound Refinery \nEach year\, the Skagit Valley Tulip Festival selects two new Tulip Ambassadors from to represent the Festival\, our community\, and the beauty of tulip season! Fourth and fifth graders from Skagit County are invited to audition for this exciting opportunity to build leadership skills\, gain public speaking experience\, and become part of one of the Valley’s most cherished traditions. \nMore information and the 2026 Ambassador application will be available soon\, check back for details!
URL:https://tulipfestival.org/event/tulip-festival-ambassador-audition/
LOCATION:Maple Hall\, 104 Commercial St\, La Conner\, WA\, 98273\, United States
END:VEVENT
END:VCALENDAR