BEGIN:VCALENDAR
VERSION:2.0
PRODID:-//Skagit Valley Tulip Festival - ECPv6.15.20//NONSGML v1.0//EN
CALSCALE:GREGORIAN
METHOD:PUBLISH
X-ORIGINAL-URL:https://tulipfestival.org
X-WR-CALDESC:Events for Skagit Valley Tulip Festival
REFRESH-INTERVAL;VALUE=DURATION:PT1H
X-Robots-Tag:noindex
X-PUBLISHED-TTL:PT1H
BEGIN:VTIMEZONE
TZID:America/Los_Angeles
BEGIN:DAYLIGHT
TZOFFSETFROM:-0800
TZOFFSETTO:-0700
TZNAME:PDT
DTSTART:20240310T100000
END:DAYLIGHT
BEGIN:STANDARD
TZOFFSETFROM:-0700
TZOFFSETTO:-0800
TZNAME:PST
DTSTART:20241103T090000
END:STANDARD
BEGIN:DAYLIGHT
TZOFFSETFROM:-0800
TZOFFSETTO:-0700
TZNAME:PDT
DTSTART:20250309T100000
END:DAYLIGHT
BEGIN:STANDARD
TZOFFSETFROM:-0700
TZOFFSETTO:-0800
TZNAME:PST
DTSTART:20251102T090000
END:STANDARD
BEGIN:DAYLIGHT
TZOFFSETFROM:-0800
TZOFFSETTO:-0700
TZNAME:PDT
DTSTART:20260308T100000
END:DAYLIGHT
BEGIN:STANDARD
TZOFFSETFROM:-0700
TZOFFSETTO:-0800
TZNAME:PST
DTSTART:20261101T090000
END:STANDARD
END:VTIMEZONE
BEGIN:VEVENT
DTSTART;TZID=America/Los_Angeles:20250926T080000
DTEND;TZID=America/Los_Angeles:20250928T170000
DTSTAMP:20260422T222648
CREATED:20250204T175049Z
LAST-MODIFIED:20260318T080759Z
UID:10000078-1758873600-1759078800@tulipfestival.org
SUMMARY:Moana Jr.
DESCRIPTION:The Theater Arts Guild presents their production of Moana Jr. held at the Lincoln Theater. See their website for showtimes and details.
URL:https://tulipfestival.org/event/moana-jr-2/
LOCATION:Lincoln Theater\, 712 S 1st St\, Mount Vernon\, WA\, 98273\, United States
ATTACH;FMTTYPE=image/png:https://tulipfestival.org/wp-content/uploads/2025/01/TAG_Logo-black-letters-transparent-background-RGB-e1739557653255.png
END:VEVENT
BEGIN:VEVENT
DTSTART;TZID=America/Los_Angeles:20250919T080000
DTEND;TZID=America/Los_Angeles:20250921T170000
DTSTAMP:20260422T222648
CREATED:20250204T175003Z
LAST-MODIFIED:20260318T080810Z
UID:10000077-1758268800-1758474000@tulipfestival.org
SUMMARY:Moana Jr.
DESCRIPTION:The Theater Arts Guild presents their production of Moana Jr. held at the Lincoln Theater. See their website for showtimes and details.
URL:https://tulipfestival.org/event/moana-jr/
LOCATION:Lincoln Theater\, 712 S 1st St\, Mount Vernon\, WA\, 98273\, United States
ATTACH;FMTTYPE=image/png:https://tulipfestival.org/wp-content/uploads/2025/01/TAG_Logo-black-letters-transparent-background-RGB-e1739557653255.png
END:VEVENT
BEGIN:VEVENT
DTSTART;TZID=America/Los_Angeles:20250613T080000
DTEND;TZID=America/Los_Angeles:20250615T170000
DTSTAMP:20260422T222648
CREATED:20250204T161847Z
LAST-MODIFIED:20260318T080900Z
UID:10000075-1749801600-1750006800@tulipfestival.org
SUMMARY:24th Annual Putnam's Spelling Bee
DESCRIPTION:Production put on by the Theater Arts Guild. Check their website for further show times and details.
URL:https://tulipfestival.org/event/24th-annual-putnams-spelling-bee/
LOCATION:Lincoln Theater\, 712 S 1st St\, Mount Vernon\, WA\, 98273\, United States
ATTACH;FMTTYPE=image/png:https://tulipfestival.org/wp-content/uploads/2025/01/TAG_Logo-black-letters-transparent-background-RGB-e1739557653255.png
END:VEVENT
END:VCALENDAR