BEGIN:VCALENDAR
VERSION:2.0
PRODID:-//Skagit Valley Tulip Festival - ECPv6.15.20//NONSGML v1.0//EN
CALSCALE:GREGORIAN
METHOD:PUBLISH
X-WR-CALNAME:Skagit Valley Tulip Festival
X-ORIGINAL-URL:https://tulipfestival.org
X-WR-CALDESC:Events for Skagit Valley Tulip Festival
REFRESH-INTERVAL;VALUE=DURATION:PT1H
X-Robots-Tag:noindex
X-PUBLISHED-TTL:PT1H
BEGIN:VTIMEZONE
TZID:America/Los_Angeles
BEGIN:DAYLIGHT
TZOFFSETFROM:-0800
TZOFFSETTO:-0700
TZNAME:PDT
DTSTART:20250309T100000
END:DAYLIGHT
BEGIN:STANDARD
TZOFFSETFROM:-0700
TZOFFSETTO:-0800
TZNAME:PST
DTSTART:20251102T090000
END:STANDARD
BEGIN:DAYLIGHT
TZOFFSETFROM:-0800
TZOFFSETTO:-0700
TZNAME:PDT
DTSTART:20260308T100000
END:DAYLIGHT
BEGIN:STANDARD
TZOFFSETFROM:-0700
TZOFFSETTO:-0800
TZNAME:PST
DTSTART:20261101T090000
END:STANDARD
BEGIN:DAYLIGHT
TZOFFSETFROM:-0800
TZOFFSETTO:-0700
TZNAME:PDT
DTSTART:20270314T100000
END:DAYLIGHT
BEGIN:STANDARD
TZOFFSETFROM:-0700
TZOFFSETTO:-0800
TZNAME:PST
DTSTART:20271107T090000
END:STANDARD
END:VTIMEZONE
BEGIN:VEVENT
DTSTART;TZID=America/Los_Angeles:20260411T100000
DTEND;TZID=America/Los_Angeles:20260411T130000
DTSTAMP:20260422T102344
CREATED:20251029T233021Z
LAST-MODIFIED:20260409T213126Z
UID:10000098-1775901600-1775912400@tulipfestival.org
SUMMARY:Annual Tulip Festival Parade
DESCRIPTION:Presented by Savi\, Powered by Harborstone Credit Union \nCelebrate community\, creativity\, and all things tulip at the annual Skagit Valley Tulip Festival Parade! This beloved tradition celebrates the Tulip Festival each spring with vintage cars\, marching bands\, local organizations\, and plenty of tulip spirit. Prior to the start of the parade\, families can also enjoy the KidZone\, presented by Global Credit Union\, Quantum Construction\, Ziply Fiber\, and King Arthur Baking School\, featuring free fun activities for kids of all ages. \nFree KidZone in Gilkey Square & Dirty Bitter square: 10AM-11:30AM \nParade begins at 12PM\, along 1st St. \nApplication to participate in the parade available now. 
URL:https://tulipfestival.org/event/annual-tulip-festival-parade/
LOCATION:Downtown La Conner
ATTACH;FMTTYPE=image/jpeg:https://tulipfestival.org/wp-content/uploads/2025/12/Annual-Tulip-Parade-1.jpg
END:VEVENT
END:VCALENDAR