BEGIN:VCALENDAR
VERSION:2.0
PRODID:-//Skagit Valley Tulip Festival - ECPv6.15.20//NONSGML v1.0//EN
CALSCALE:GREGORIAN
METHOD:PUBLISH
X-WR-CALNAME:Skagit Valley Tulip Festival
X-ORIGINAL-URL:https://tulipfestival.org
X-WR-CALDESC:Events for Skagit Valley Tulip Festival
REFRESH-INTERVAL;VALUE=DURATION:PT1H
X-Robots-Tag:noindex
X-PUBLISHED-TTL:PT1H
BEGIN:VTIMEZONE
TZID:America/Los_Angeles
BEGIN:DAYLIGHT
TZOFFSETFROM:-0800
TZOFFSETTO:-0700
TZNAME:PDT
DTSTART:20250309T100000
END:DAYLIGHT
BEGIN:STANDARD
TZOFFSETFROM:-0700
TZOFFSETTO:-0800
TZNAME:PST
DTSTART:20251102T090000
END:STANDARD
BEGIN:DAYLIGHT
TZOFFSETFROM:-0800
TZOFFSETTO:-0700
TZNAME:PDT
DTSTART:20260308T100000
END:DAYLIGHT
BEGIN:STANDARD
TZOFFSETFROM:-0700
TZOFFSETTO:-0800
TZNAME:PST
DTSTART:20261101T090000
END:STANDARD
BEGIN:DAYLIGHT
TZOFFSETFROM:-0800
TZOFFSETTO:-0700
TZNAME:PDT
DTSTART:20270314T100000
END:DAYLIGHT
BEGIN:STANDARD
TZOFFSETFROM:-0700
TZOFFSETTO:-0800
TZNAME:PST
DTSTART:20271107T090000
END:STANDARD
END:VTIMEZONE
BEGIN:VEVENT
DTSTART;TZID=America/Los_Angeles:20260329T100000
DTEND;TZID=America/Los_Angeles:20260329T180000
DTSTAMP:20260423T045835
CREATED:20260206T173819Z
LAST-MODIFIED:20260401T181259Z
UID:10000160-1774778400-1774807200@tulipfestival.org
SUMMARY:PNW Artisan Marketplace
DESCRIPTION:Experience a vibrant showcase in the Vinery building at Christianson’s Nursery\, featuring 140+ local artists\, food trucks\, & fun! \nFree entry & free on-site parking.
URL:https://tulipfestival.org/event/pnw-artisan-marketplace/2026-03-29/
LOCATION:Christianson’s Nursery\, 15806 Best Rd\, Mount Vernon\, WA\, 98273\, United States
ATTACH;FMTTYPE=image/png:https://tulipfestival.org/wp-content/uploads/2026/02/Screenshot-2026-02-06-093737.png
END:VEVENT
BEGIN:VEVENT
DTSTART;TZID=America/Los_Angeles:20260328T100000
DTEND;TZID=America/Los_Angeles:20260328T180000
DTSTAMP:20260423T045835
CREATED:20260206T173819Z
LAST-MODIFIED:20260401T181259Z
UID:10000159-1774692000-1774720800@tulipfestival.org
SUMMARY:PNW Artisan Marketplace
DESCRIPTION:Experience a vibrant showcase in the Vinery building at Christianson’s Nursery\, featuring 140+ local artists\, food trucks\, & fun! \nFree entry & free on-site parking.
URL:https://tulipfestival.org/event/pnw-artisan-marketplace/2026-03-28/
LOCATION:Christianson’s Nursery\, 15806 Best Rd\, Mount Vernon\, WA\, 98273\, United States
ATTACH;FMTTYPE=image/png:https://tulipfestival.org/wp-content/uploads/2026/02/Screenshot-2026-02-06-093737.png
END:VEVENT
BEGIN:VEVENT
DTSTART;TZID=America/Los_Angeles:20260327T100000
DTEND;TZID=America/Los_Angeles:20260327T180000
DTSTAMP:20260423T045835
CREATED:20260206T173819Z
LAST-MODIFIED:20260401T181259Z
UID:10000158-1774605600-1774634400@tulipfestival.org
SUMMARY:PNW Artisan Marketplace
DESCRIPTION:Experience a vibrant showcase in the Vinery building at Christianson’s Nursery\, featuring 140+ local artists\, food trucks\, & fun! \nFree entry & free on-site parking.
URL:https://tulipfestival.org/event/pnw-artisan-marketplace/2026-03-27/
LOCATION:Christianson’s Nursery\, 15806 Best Rd\, Mount Vernon\, WA\, 98273\, United States
ATTACH;FMTTYPE=image/png:https://tulipfestival.org/wp-content/uploads/2026/02/Screenshot-2026-02-06-093737.png
END:VEVENT
END:VCALENDAR