BEGIN:VCALENDAR
VERSION:2.0
PRODID:-//Skagit Valley Tulip Festival - ECPv6.15.20//NONSGML v1.0//EN
CALSCALE:GREGORIAN
METHOD:PUBLISH
X-ORIGINAL-URL:https://tulipfestival.org
X-WR-CALDESC:Events for Skagit Valley Tulip Festival
REFRESH-INTERVAL;VALUE=DURATION:PT1H
X-Robots-Tag:noindex
X-PUBLISHED-TTL:PT1H
BEGIN:VTIMEZONE
TZID:America/Los_Angeles
BEGIN:DAYLIGHT
TZOFFSETFROM:-0800
TZOFFSETTO:-0700
TZNAME:PDT
DTSTART:20240310T100000
END:DAYLIGHT
BEGIN:STANDARD
TZOFFSETFROM:-0700
TZOFFSETTO:-0800
TZNAME:PST
DTSTART:20241103T090000
END:STANDARD
BEGIN:DAYLIGHT
TZOFFSETFROM:-0800
TZOFFSETTO:-0700
TZNAME:PDT
DTSTART:20250309T100000
END:DAYLIGHT
BEGIN:STANDARD
TZOFFSETFROM:-0700
TZOFFSETTO:-0800
TZNAME:PST
DTSTART:20251102T090000
END:STANDARD
BEGIN:DAYLIGHT
TZOFFSETFROM:-0800
TZOFFSETTO:-0700
TZNAME:PDT
DTSTART:20260308T100000
END:DAYLIGHT
BEGIN:STANDARD
TZOFFSETFROM:-0700
TZOFFSETTO:-0800
TZNAME:PST
DTSTART:20261101T090000
END:STANDARD
END:VTIMEZONE
BEGIN:VEVENT
DTSTART;TZID=America/Los_Angeles:20250629T100000
DTEND;TZID=America/Los_Angeles:20250629T140000
DTSTAMP:20260422T205853
CREATED:20250520T164245Z
LAST-MODIFIED:20260318T080826Z
UID:10000096-1751191200-1751205600@tulipfestival.org
SUMMARY:Skagit Valley Farmers Market
DESCRIPTION:The Skagit Valley Farmers Market\, hosted by Christianson’s Nursery from May to October\, brings together local farmers\, artisans\, and makers to celebrate the region’s creativity and agricultural heritage. Featuring fresh produce\, handmade goods\, and unique finds\, the market supports sustainability and community connection\, with added experiences like a vintage tractor tour through local farms.
URL:https://tulipfestival.org/event/skagit-valley-farmers-market-5/
LOCATION:Christianson’s Nursery at the Vinery\, 15806 Best Rd\, Mount Vernon\, WA\, 98273\, United States
ATTACH;FMTTYPE=image/png:https://tulipfestival.org/wp-content/uploads/2025/05/Green-Organic-Illustrative-Farmers-Market-Poster-Real-Estate-Flyer-e1747758884117.png
ORGANIZER;CN="Christianson's Nursery":MAILTO:staff.christiansons@gmail.com
END:VEVENT
BEGIN:VEVENT
DTSTART;TZID=America/Los_Angeles:20250622T100000
DTEND;TZID=America/Los_Angeles:20250622T140000
DTSTAMP:20260422T205853
CREATED:20250520T164206Z
LAST-MODIFIED:20260318T080840Z
UID:10000095-1750586400-1750600800@tulipfestival.org
SUMMARY:Skagit Valley Farmers Market
DESCRIPTION:The Skagit Valley Farmers Market\, hosted by Christianson’s Nursery from May to October\, brings together local farmers\, artisans\, and makers to celebrate the region’s creativity and agricultural heritage. Featuring fresh produce\, handmade goods\, and unique finds\, the market supports sustainability and community connection\, with added experiences like a vintage tractor tour through local farms.
URL:https://tulipfestival.org/event/skagit-valley-farmers-market-4/
LOCATION:Christianson’s Nursery at the Vinery\, 15806 Best Rd\, Mount Vernon\, WA\, 98273\, United States
ATTACH;FMTTYPE=image/png:https://tulipfestival.org/wp-content/uploads/2025/05/Green-Organic-Illustrative-Farmers-Market-Poster-Real-Estate-Flyer-e1747758884117.png
ORGANIZER;CN="Christianson's Nursery":MAILTO:staff.christiansons@gmail.com
END:VEVENT
BEGIN:VEVENT
DTSTART;TZID=America/Los_Angeles:20250615T100000
DTEND;TZID=America/Los_Angeles:20250615T140000
DTSTAMP:20260422T205853
CREATED:20250520T163913Z
LAST-MODIFIED:20260318T080855Z
UID:10000094-1749981600-1749996000@tulipfestival.org
SUMMARY:Skagit Valley Farmers Market
DESCRIPTION:The Skagit Valley Farmers Market\, hosted by Christianson’s Nursery from May to October\, brings together local farmers\, artisans\, and makers to celebrate the region’s creativity and agricultural heritage. Featuring fresh produce\, handmade goods\, and unique finds\, the market supports sustainability and community connection\, with added experiences like a vintage tractor tour through local farms.
URL:https://tulipfestival.org/event/skagit-valley-farmers-market-3/
LOCATION:Christianson’s Nursery at the Vinery\, 15806 Best Rd\, Mount Vernon\, WA\, 98273\, United States
ATTACH;FMTTYPE=image/png:https://tulipfestival.org/wp-content/uploads/2025/05/Green-Organic-Illustrative-Farmers-Market-Poster-Real-Estate-Flyer-e1747758884117.png
ORGANIZER;CN="Christianson's Nursery":MAILTO:staff.christiansons@gmail.com
END:VEVENT
BEGIN:VEVENT
DTSTART;TZID=America/Los_Angeles:20250608T100000
DTEND;TZID=America/Los_Angeles:20250608T140000
DTSTAMP:20260422T205853
CREATED:20250520T163801Z
LAST-MODIFIED:20260318T080908Z
UID:10000093-1749376800-1749391200@tulipfestival.org
SUMMARY:Skagit Valley Farmers Market
DESCRIPTION:The Skagit Valley Farmers Market\, hosted by Christianson’s Nursery from May to October\, brings together local farmers\, artisans\, and makers to celebrate the region’s creativity and agricultural heritage. Featuring fresh produce\, handmade goods\, and unique finds\, the market supports sustainability and community connection\, with added experiences like a vintage tractor tour through local farms.
URL:https://tulipfestival.org/event/skagit-valley-farmers-market-2-2/
LOCATION:Christianson’s Nursery at the Vinery\, 15806 Best Rd\, Mount Vernon\, WA\, 98273\, United States
ATTACH;FMTTYPE=image/png:https://tulipfestival.org/wp-content/uploads/2025/05/Green-Organic-Illustrative-Farmers-Market-Poster-Real-Estate-Flyer-e1747758884117.png
ORGANIZER;CN="Christianson's Nursery":MAILTO:staff.christiansons@gmail.com
END:VEVENT
BEGIN:VEVENT
DTSTART;TZID=America/Los_Angeles:20250601T100000
DTEND;TZID=America/Los_Angeles:20250601T140000
DTSTAMP:20260422T205853
CREATED:20250520T163725Z
LAST-MODIFIED:20260318T080925Z
UID:10000092-1748772000-1748786400@tulipfestival.org
SUMMARY:Skagit Valley Farmers Market
DESCRIPTION:The Skagit Valley Farmers Market\, hosted by Christianson’s Nursery from May to October\, brings together local farmers\, artisans\, and makers to celebrate the region’s creativity and agricultural heritage. Featuring fresh produce\, handmade goods\, and unique finds\, the market supports sustainability and community connection\, with added experiences like a vintage tractor tour through local farms.
URL:https://tulipfestival.org/event/skagit-valley-farmers-market-2/
LOCATION:Christianson’s Nursery at the Vinery\, 15806 Best Rd\, Mount Vernon\, WA\, 98273\, United States
ATTACH;FMTTYPE=image/png:https://tulipfestival.org/wp-content/uploads/2025/05/Green-Organic-Illustrative-Farmers-Market-Poster-Real-Estate-Flyer-e1747758884117.png
ORGANIZER;CN="Christianson's Nursery":MAILTO:staff.christiansons@gmail.com
END:VEVENT
BEGIN:VEVENT
DTSTART;TZID=America/Los_Angeles:20250525T100000
DTEND;TZID=America/Los_Angeles:20250525T140000
DTSTAMP:20260422T205853
CREATED:20250520T163615Z
LAST-MODIFIED:20260318T080930Z
UID:10000091-1748167200-1748181600@tulipfestival.org
SUMMARY:Skagit Valley Farmers Market
DESCRIPTION:The Skagit Valley Farmers Market\, hosted by Christianson’s Nursery from May to October\, brings together local farmers\, artisans\, and makers to celebrate the region’s creativity and agricultural heritage. Featuring fresh produce\, handmade goods\, and unique finds\, the market supports sustainability and community connection\, with added experiences like a vintage tractor tour through local farms.
URL:https://tulipfestival.org/event/skagit-valley-farmers-market/
LOCATION:Christianson’s Nursery at the Vinery\, 15806 Best Rd\, Mount Vernon\, WA\, 98273\, United States
ATTACH;FMTTYPE=image/png:https://tulipfestival.org/wp-content/uploads/2025/05/Green-Organic-Illustrative-Farmers-Market-Poster-Real-Estate-Flyer-e1747758884117.png
ORGANIZER;CN="Christianson's Nursery":MAILTO:staff.christiansons@gmail.com
END:VEVENT
BEGIN:VEVENT
DTSTART;TZID=America/Los_Angeles:20250328T100000
DTEND;TZID=America/Los_Angeles:20250427T180000
DTSTAMP:20260422T205853
CREATED:20250129T202809Z
LAST-MODIFIED:20260324T005159Z
UID:10000064-1743156000-1745776800@tulipfestival.org
SUMMARY:PNW Artisan Marketplace
DESCRIPTION:Welcome back to the PNW Artisan Marketplace\, celebrating its 5th year! Join us March 28–April 27\, open daily from 10 AM to 6 PM in the historic Pea Vinery building on the Christianson’s Nursery campus. Discover over 140 talented local artists showcasing a variety of mediums. Enjoy fresh cookies\, delicious food trucks\, and daily live demos. This family- and pet-friendly event is free to attend\, offering a welcoming space to explore handmade creations and support the local artisan community. Don’t miss this vibrant celebration of art\, food\, and creativity!
URL:https://tulipfestival.org/event/pnw-artisan-marketplace-2025/
LOCATION:Christianson’s Nursery at the Vinery\, 15806 Best Rd\, Mount Vernon\, WA\, 98273\, United States
ATTACH;FMTTYPE=image/png:https://tulipfestival.org/wp-content/uploads/2023/12/pnwam-25-e1739557559597.png
END:VEVENT
BEGIN:VEVENT
DTSTART;TZID=America/Los_Angeles:20250328T100000
DTEND;TZID=America/Los_Angeles:20250427T170000
DTSTAMP:20260422T205853
CREATED:20250307T172651Z
LAST-MODIFIED:20260318T081139Z
UID:10000081-1743156000-1745773200@tulipfestival.org
SUMMARY:Art at the Schoolhouse
DESCRIPTION:The Stanwood Camano Arts Guild returns to the historic schoolhouse at Christianson’s Nursery in Mount Vernon where talented artists will be offering paintings\, photography\, rustic garden art\, stained glass\, mixed media\, metal sculptures\, jewelry and so much more. Art at the Schoolhouse at Christianson’s Nursery. March 28\, 2025\, through April 27\, 2025\, 10am to 5pm daily.
URL:https://tulipfestival.org/event/art-in-a-schoolhouse/
LOCATION:Christianson’s Nursery at the Vinery\, 15806 Best Rd\, Mount Vernon\, WA\, 98273\, United States
ATTACH;FMTTYPE=image/jpeg:https://tulipfestival.org/wp-content/uploads/2025/03/HIGHER-REZ-SCAG-Block-Ad-April-2025-1-e1741369431935.jpeg
END:VEVENT
END:VCALENDAR