BEGIN:VCALENDAR
VERSION:2.0
PRODID:-//Skagit Valley Tulip Festival - ECPv6.15.20//NONSGML v1.0//EN
CALSCALE:GREGORIAN
METHOD:PUBLISH
X-WR-CALNAME:Skagit Valley Tulip Festival
X-ORIGINAL-URL:https://tulipfestival.org
X-WR-CALDESC:Events for Skagit Valley Tulip Festival
REFRESH-INTERVAL;VALUE=DURATION:PT1H
X-Robots-Tag:noindex
X-PUBLISHED-TTL:PT1H
BEGIN:VTIMEZONE
TZID:America/Los_Angeles
BEGIN:DAYLIGHT
TZOFFSETFROM:-0800
TZOFFSETTO:-0700
TZNAME:PDT
DTSTART:20250309T100000
END:DAYLIGHT
BEGIN:STANDARD
TZOFFSETFROM:-0700
TZOFFSETTO:-0800
TZNAME:PST
DTSTART:20251102T090000
END:STANDARD
BEGIN:DAYLIGHT
TZOFFSETFROM:-0800
TZOFFSETTO:-0700
TZNAME:PDT
DTSTART:20260308T100000
END:DAYLIGHT
BEGIN:STANDARD
TZOFFSETFROM:-0700
TZOFFSETTO:-0800
TZNAME:PST
DTSTART:20261101T090000
END:STANDARD
BEGIN:DAYLIGHT
TZOFFSETFROM:-0800
TZOFFSETTO:-0700
TZNAME:PDT
DTSTART:20270314T100000
END:DAYLIGHT
BEGIN:STANDARD
TZOFFSETFROM:-0700
TZOFFSETTO:-0800
TZNAME:PST
DTSTART:20271107T090000
END:STANDARD
END:VTIMEZONE
BEGIN:VEVENT
DTSTART;TZID=America/Los_Angeles:20260410T180000
DTEND;TZID=America/Los_Angeles:20260410T200000
DTSTAMP:20260422T132047
CREATED:20260313T172314Z
LAST-MODIFIED:20260407T174144Z
UID:10000313-1775844000-1775851200@tulipfestival.org
SUMMARY:Tulip Festival Petals & Pours at Martini Brunch
DESCRIPTION:Celebrate tulip season with an exclusive evening of flowers\, cocktails\, and savory bites at Martini Brunch. Hosted by owners Brooke and Charlie Martini alongside floral designer Sheena Wilson of Bloom Floral Design\, this hands-on floral class invites you to create a lush spring arrangement inspired by the vibrant colors and textures of the Skagit Valley in bloom. \nSip a handcrafted cocktail while enjoying signature Martini Brunch bites in a relaxed\, intimate setting. With just 10 seats available\, this small-group experience is designed to feel personal\, seasonal\, and distinctly Skagit—perfect for a friends’ night out\, a spring date\, or the start of a tulip-filled getaway. \nSnag your ticket here: Martini Brunch + bLoom 4/10 6-8PM – bLoom Floral Design
URL:https://tulipfestival.org/event/petals-and-pours-martini-brunch/
LOCATION:Martini Brunch\, 1300 S 2nd St\, Mount Vernon\, 98273\, United States
END:VEVENT
END:VCALENDAR