BEGIN:VCALENDAR
VERSION:2.0
PRODID:-//Skagit Valley Tulip Festival - ECPv6.15.20//NONSGML v1.0//EN
CALSCALE:GREGORIAN
METHOD:PUBLISH
X-ORIGINAL-URL:https://tulipfestival.org
X-WR-CALDESC:Events for Skagit Valley Tulip Festival
REFRESH-INTERVAL;VALUE=DURATION:PT1H
X-Robots-Tag:noindex
X-PUBLISHED-TTL:PT1H
BEGIN:VTIMEZONE
TZID:America/Los_Angeles
BEGIN:DAYLIGHT
TZOFFSETFROM:-0800
TZOFFSETTO:-0700
TZNAME:PDT
DTSTART:20250309T100000
END:DAYLIGHT
BEGIN:STANDARD
TZOFFSETFROM:-0700
TZOFFSETTO:-0800
TZNAME:PST
DTSTART:20251102T090000
END:STANDARD
BEGIN:DAYLIGHT
TZOFFSETFROM:-0800
TZOFFSETTO:-0700
TZNAME:PDT
DTSTART:20260308T100000
END:DAYLIGHT
BEGIN:STANDARD
TZOFFSETFROM:-0700
TZOFFSETTO:-0800
TZNAME:PST
DTSTART:20261101T090000
END:STANDARD
BEGIN:DAYLIGHT
TZOFFSETFROM:-0800
TZOFFSETTO:-0700
TZNAME:PDT
DTSTART:20270314T100000
END:DAYLIGHT
BEGIN:STANDARD
TZOFFSETFROM:-0700
TZOFFSETTO:-0800
TZNAME:PST
DTSTART:20271107T090000
END:STANDARD
END:VTIMEZONE
BEGIN:VEVENT
DTSTART;TZID=America/Los_Angeles:20260418T083000
DTEND;TZID=America/Los_Angeles:20260418T120000
DTSTAMP:20260422T181028
CREATED:20251217T210153Z
LAST-MODIFIED:20260318T080426Z
UID:10000107-1776501000-1776513600@tulipfestival.org
SUMMARY:Skagit Valley Tulip Run
DESCRIPTION:Celebrate spring the 40th Annual Skagit Valley Tulip Run on Saturday\, April 18\, 2026. Hosted by Skagit Runners\, this beloved community tradition features scenic\, fast courses near the Skagit Regional Airport\, surrounded by the beauty of tulip season.\n\nParticipants can choose from a 2-mile\, 5K\, or 10K option\, making this event perfect for competitive runners\, families\, walkers\, and visitors alike. The race is professionally chip timed (10K and 5K)\, and all participants receive a finisher medal. Registration is required in advance through the Skagit Runners website. Use code 2026TulipFestival  for a discount on registration fees.\n\nProceeds support local running scholarships\, and this project is partially funded by the Skagit County and City of Burlington Lodging Tax funds\n\n. \nEvent specifics\nStart Times: 10K – 8:30am\, 5K – 9:00am\, 2-mile – 9:05am\nCost: $30 (2-mile\, 5K)\, $40 (10K)
URL:https://tulipfestival.org/event/skagit-valley-tulip-run/
LOCATION:True North Bakery\, 15426 Airport Dr B\, Burlington\, WA\, 98233\, United States
ATTACH;FMTTYPE=image/jpeg:https://tulipfestival.org/wp-content/uploads/2025/12/tuliprunlogopurple.jpg
END:VEVENT
END:VCALENDAR