BEGIN:VCALENDAR
VERSION:2.0
PRODID:-//Skagit Valley Tulip Festival - ECPv6.15.20//NONSGML v1.0//EN
CALSCALE:GREGORIAN
METHOD:PUBLISH
X-ORIGINAL-URL:https://tulipfestival.org
X-WR-CALDESC:Events for Skagit Valley Tulip Festival
REFRESH-INTERVAL;VALUE=DURATION:PT1H
X-Robots-Tag:noindex
X-PUBLISHED-TTL:PT1H
BEGIN:VTIMEZONE
TZID:America/Los_Angeles
BEGIN:DAYLIGHT
TZOFFSETFROM:-0800
TZOFFSETTO:-0700
TZNAME:PDT
DTSTART:20250309T100000
END:DAYLIGHT
BEGIN:STANDARD
TZOFFSETFROM:-0700
TZOFFSETTO:-0800
TZNAME:PST
DTSTART:20251102T090000
END:STANDARD
BEGIN:DAYLIGHT
TZOFFSETFROM:-0800
TZOFFSETTO:-0700
TZNAME:PDT
DTSTART:20260308T100000
END:DAYLIGHT
BEGIN:STANDARD
TZOFFSETFROM:-0700
TZOFFSETTO:-0800
TZNAME:PST
DTSTART:20261101T090000
END:STANDARD
BEGIN:DAYLIGHT
TZOFFSETFROM:-0800
TZOFFSETTO:-0700
TZNAME:PDT
DTSTART:20270314T100000
END:DAYLIGHT
BEGIN:STANDARD
TZOFFSETFROM:-0700
TZOFFSETTO:-0800
TZNAME:PST
DTSTART:20271107T090000
END:STANDARD
END:VTIMEZONE
BEGIN:VEVENT
DTSTART;TZID=America/Los_Angeles:20260422T100000
DTEND;TZID=America/Los_Angeles:20260422T170000
DTSTAMP:20260422T150407
CREATED:20260206T171356Z
LAST-MODIFIED:20260401T182456Z
UID:10000149-1776852000-1776877200@tulipfestival.org
SUMMARY:Art in a Pickle Barn
DESCRIPTION:Discover local artists and handcrafters at the Bakery Barn across from Schuh Farms in Mount Vernon\, featuring art in every medium\, and a student scholarship display. \nFree entry & free parking on site. Tour groups are welcome!
URL:https://tulipfestival.org/event/art-in-a-pickle-barn/2026-04-22/
LOCATION:Schuh Farms\, 15530 WA-536th\, Mount Vernon\, WA\, 98273\, United States
ATTACH;FMTTYPE=image/jpeg:https://tulipfestival.org/wp-content/uploads/2023/12/art-in-a-pickle-barn.jpg
END:VEVENT
BEGIN:VEVENT
DTSTART;TZID=America/Los_Angeles:20260423T100000
DTEND;TZID=America/Los_Angeles:20260423T170000
DTSTAMP:20260422T150407
CREATED:20260206T171356Z
LAST-MODIFIED:20260401T182456Z
UID:10000150-1776938400-1776963600@tulipfestival.org
SUMMARY:Art in a Pickle Barn
DESCRIPTION:Discover local artists and handcrafters at the Bakery Barn across from Schuh Farms in Mount Vernon\, featuring art in every medium\, and a student scholarship display. \nFree entry & free parking on site. Tour groups are welcome!
URL:https://tulipfestival.org/event/art-in-a-pickle-barn/2026-04-23/
LOCATION:Schuh Farms\, 15530 WA-536th\, Mount Vernon\, WA\, 98273\, United States
ATTACH;FMTTYPE=image/jpeg:https://tulipfestival.org/wp-content/uploads/2023/12/art-in-a-pickle-barn.jpg
END:VEVENT
BEGIN:VEVENT
DTSTART;TZID=America/Los_Angeles:20260424T100000
DTEND;TZID=America/Los_Angeles:20260424T170000
DTSTAMP:20260422T150407
CREATED:20260206T171356Z
LAST-MODIFIED:20260401T182456Z
UID:10000151-1777024800-1777050000@tulipfestival.org
SUMMARY:Art in a Pickle Barn
DESCRIPTION:Discover local artists and handcrafters at the Bakery Barn across from Schuh Farms in Mount Vernon\, featuring art in every medium\, and a student scholarship display. \nFree entry & free parking on site. Tour groups are welcome!
URL:https://tulipfestival.org/event/art-in-a-pickle-barn/2026-04-24/
LOCATION:Schuh Farms\, 15530 WA-536th\, Mount Vernon\, WA\, 98273\, United States
ATTACH;FMTTYPE=image/jpeg:https://tulipfestival.org/wp-content/uploads/2023/12/art-in-a-pickle-barn.jpg
END:VEVENT
BEGIN:VEVENT
DTSTART;TZID=America/Los_Angeles:20260425T100000
DTEND;TZID=America/Los_Angeles:20260425T170000
DTSTAMP:20260422T150407
CREATED:20260206T171356Z
LAST-MODIFIED:20260401T182456Z
UID:10000152-1777111200-1777136400@tulipfestival.org
SUMMARY:Art in a Pickle Barn
DESCRIPTION:Discover local artists and handcrafters at the Bakery Barn across from Schuh Farms in Mount Vernon\, featuring art in every medium\, and a student scholarship display. \nFree entry & free parking on site. Tour groups are welcome!
URL:https://tulipfestival.org/event/art-in-a-pickle-barn/2026-04-25/
LOCATION:Schuh Farms\, 15530 WA-536th\, Mount Vernon\, WA\, 98273\, United States
ATTACH;FMTTYPE=image/jpeg:https://tulipfestival.org/wp-content/uploads/2023/12/art-in-a-pickle-barn.jpg
END:VEVENT
BEGIN:VEVENT
DTSTART;TZID=America/Los_Angeles:20260426T100000
DTEND;TZID=America/Los_Angeles:20260426T170000
DTSTAMP:20260422T150407
CREATED:20260206T171356Z
LAST-MODIFIED:20260401T182456Z
UID:10000153-1777197600-1777222800@tulipfestival.org
SUMMARY:Art in a Pickle Barn
DESCRIPTION:Discover local artists and handcrafters at the Bakery Barn across from Schuh Farms in Mount Vernon\, featuring art in every medium\, and a student scholarship display. \nFree entry & free parking on site. Tour groups are welcome!
URL:https://tulipfestival.org/event/art-in-a-pickle-barn/2026-04-26/
LOCATION:Schuh Farms\, 15530 WA-536th\, Mount Vernon\, WA\, 98273\, United States
ATTACH;FMTTYPE=image/jpeg:https://tulipfestival.org/wp-content/uploads/2023/12/art-in-a-pickle-barn.jpg
END:VEVENT
BEGIN:VEVENT
DTSTART;TZID=America/Los_Angeles:20260427T100000
DTEND;TZID=America/Los_Angeles:20260427T170000
DTSTAMP:20260422T150407
CREATED:20260206T171356Z
LAST-MODIFIED:20260401T182456Z
UID:10000154-1777284000-1777309200@tulipfestival.org
SUMMARY:Art in a Pickle Barn
DESCRIPTION:Discover local artists and handcrafters at the Bakery Barn across from Schuh Farms in Mount Vernon\, featuring art in every medium\, and a student scholarship display. \nFree entry & free parking on site. Tour groups are welcome!
URL:https://tulipfestival.org/event/art-in-a-pickle-barn/2026-04-27/
LOCATION:Schuh Farms\, 15530 WA-536th\, Mount Vernon\, WA\, 98273\, United States
ATTACH;FMTTYPE=image/jpeg:https://tulipfestival.org/wp-content/uploads/2023/12/art-in-a-pickle-barn.jpg
END:VEVENT
BEGIN:VEVENT
DTSTART;TZID=America/Los_Angeles:20260428T100000
DTEND;TZID=America/Los_Angeles:20260428T170000
DTSTAMP:20260422T150407
CREATED:20260206T171356Z
LAST-MODIFIED:20260401T182456Z
UID:10000155-1777370400-1777395600@tulipfestival.org
SUMMARY:Art in a Pickle Barn
DESCRIPTION:Discover local artists and handcrafters at the Bakery Barn across from Schuh Farms in Mount Vernon\, featuring art in every medium\, and a student scholarship display. \nFree entry & free parking on site. Tour groups are welcome!
URL:https://tulipfestival.org/event/art-in-a-pickle-barn/2026-04-28/
LOCATION:Schuh Farms\, 15530 WA-536th\, Mount Vernon\, WA\, 98273\, United States
ATTACH;FMTTYPE=image/jpeg:https://tulipfestival.org/wp-content/uploads/2023/12/art-in-a-pickle-barn.jpg
END:VEVENT
BEGIN:VEVENT
DTSTART;TZID=America/Los_Angeles:20260429T100000
DTEND;TZID=America/Los_Angeles:20260429T170000
DTSTAMP:20260422T150407
CREATED:20260206T171356Z
LAST-MODIFIED:20260401T182456Z
UID:10000156-1777456800-1777482000@tulipfestival.org
SUMMARY:Art in a Pickle Barn
DESCRIPTION:Discover local artists and handcrafters at the Bakery Barn across from Schuh Farms in Mount Vernon\, featuring art in every medium\, and a student scholarship display. \nFree entry & free parking on site. Tour groups are welcome!
URL:https://tulipfestival.org/event/art-in-a-pickle-barn/2026-04-29/
LOCATION:Schuh Farms\, 15530 WA-536th\, Mount Vernon\, WA\, 98273\, United States
ATTACH;FMTTYPE=image/jpeg:https://tulipfestival.org/wp-content/uploads/2023/12/art-in-a-pickle-barn.jpg
END:VEVENT
BEGIN:VEVENT
DTSTART;TZID=America/Los_Angeles:20260430T100000
DTEND;TZID=America/Los_Angeles:20260430T170000
DTSTAMP:20260422T150407
CREATED:20260206T171356Z
LAST-MODIFIED:20260401T182456Z
UID:10000157-1777543200-1777568400@tulipfestival.org
SUMMARY:Art in a Pickle Barn
DESCRIPTION:Discover local artists and handcrafters at the Bakery Barn across from Schuh Farms in Mount Vernon\, featuring art in every medium\, and a student scholarship display. \nFree entry & free parking on site. Tour groups are welcome!
URL:https://tulipfestival.org/event/art-in-a-pickle-barn/2026-04-30/
LOCATION:Schuh Farms\, 15530 WA-536th\, Mount Vernon\, WA\, 98273\, United States
ATTACH;FMTTYPE=image/jpeg:https://tulipfestival.org/wp-content/uploads/2023/12/art-in-a-pickle-barn.jpg
END:VEVENT
END:VCALENDAR