BEGIN:VCALENDAR
VERSION:2.0
PRODID:-//Skagit Valley Tulip Festival - ECPv6.15.20//NONSGML v1.0//EN
CALSCALE:GREGORIAN
METHOD:PUBLISH
X-WR-CALNAME:Skagit Valley Tulip Festival
X-ORIGINAL-URL:https://tulipfestival.org
X-WR-CALDESC:Events for Skagit Valley Tulip Festival
REFRESH-INTERVAL;VALUE=DURATION:PT1H
X-Robots-Tag:noindex
X-PUBLISHED-TTL:PT1H
BEGIN:VTIMEZONE
TZID:America/Los_Angeles
BEGIN:DAYLIGHT
TZOFFSETFROM:-0800
TZOFFSETTO:-0700
TZNAME:PDT
DTSTART:20250309T100000
END:DAYLIGHT
BEGIN:STANDARD
TZOFFSETFROM:-0700
TZOFFSETTO:-0800
TZNAME:PST
DTSTART:20251102T090000
END:STANDARD
BEGIN:DAYLIGHT
TZOFFSETFROM:-0800
TZOFFSETTO:-0700
TZNAME:PDT
DTSTART:20260308T100000
END:DAYLIGHT
BEGIN:STANDARD
TZOFFSETFROM:-0700
TZOFFSETTO:-0800
TZNAME:PST
DTSTART:20261101T090000
END:STANDARD
BEGIN:DAYLIGHT
TZOFFSETFROM:-0800
TZOFFSETTO:-0700
TZNAME:PDT
DTSTART:20270314T100000
END:DAYLIGHT
BEGIN:STANDARD
TZOFFSETFROM:-0700
TZOFFSETTO:-0800
TZNAME:PST
DTSTART:20271107T090000
END:STANDARD
END:VTIMEZONE
BEGIN:VEVENT
DTSTART;TZID=America/Los_Angeles:20260417T163000
DTEND;TZID=America/Los_Angeles:20260417T183000
DTSTAMP:20260422T163140
CREATED:20260323T203206Z
LAST-MODIFIED:20260323T203321Z
UID:10000314-1776443400-1776450600@tulipfestival.org
SUMMARY:Spring Sip & Stroll
DESCRIPTION:Join the Sedro-Woolley Chamber of Commerce for their Spring Sip & Stroll. Participants will receive a wristband and a shopping bag\, which is your pass to sips\, samples\, and discounts at participating locations.\n\nWristbands are $20 prepurchase\, $25 day of.
URL:https://tulipfestival.org/event/spring-sip-stroll/
LOCATION:Sedro-Woolley Chamber of Commerce\, 810 Metcalf St\, Sedro-Woolley\, 98284\, United States
ATTACH;FMTTYPE=image/jpeg:https://tulipfestival.org/wp-content/uploads/2026/03/Tulip-Sip-and-Stroll1.jpg
END:VEVENT
END:VCALENDAR