BEGIN:VCALENDAR
VERSION:2.0
PRODID:-//Skagit Valley Tulip Festival - ECPv6.15.20//NONSGML v1.0//EN
CALSCALE:GREGORIAN
METHOD:PUBLISH
X-ORIGINAL-URL:https://tulipfestival.org
X-WR-CALDESC:Events for Skagit Valley Tulip Festival
REFRESH-INTERVAL;VALUE=DURATION:PT1H
X-Robots-Tag:noindex
X-PUBLISHED-TTL:PT1H
BEGIN:VTIMEZONE
TZID:America/Los_Angeles
BEGIN:DAYLIGHT
TZOFFSETFROM:-0800
TZOFFSETTO:-0700
TZNAME:PDT
DTSTART:20250309T100000
END:DAYLIGHT
BEGIN:STANDARD
TZOFFSETFROM:-0700
TZOFFSETTO:-0800
TZNAME:PST
DTSTART:20251102T090000
END:STANDARD
BEGIN:DAYLIGHT
TZOFFSETFROM:-0800
TZOFFSETTO:-0700
TZNAME:PDT
DTSTART:20260308T100000
END:DAYLIGHT
BEGIN:STANDARD
TZOFFSETFROM:-0700
TZOFFSETTO:-0800
TZNAME:PST
DTSTART:20261101T090000
END:STANDARD
BEGIN:DAYLIGHT
TZOFFSETFROM:-0800
TZOFFSETTO:-0700
TZNAME:PDT
DTSTART:20270314T100000
END:DAYLIGHT
BEGIN:STANDARD
TZOFFSETFROM:-0700
TZOFFSETTO:-0800
TZNAME:PST
DTSTART:20271107T090000
END:STANDARD
END:VTIMEZONE
BEGIN:VEVENT
DTSTART;TZID=America/Los_Angeles:20260425T100000
DTEND;TZID=America/Los_Angeles:20260425T150000
DTSTAMP:20260422T150606
CREATED:20251210T195014Z
LAST-MODIFIED:20260318T080339Z
UID:10000102-1777111200-1777129200@tulipfestival.org
SUMMARY:Thriftopia!
DESCRIPTION:Discover hidden treasures at the “Thriftopia Flea Market Block Party” community event in Burlington! Explore this free event that features up to 40 indoor and outdoor vendors selling second-hand and vintage toys\, clothing\, collectibles\, furniture\, housewares\, antiques\, sports equipment\, books\, games and more. Attend the event as a shopper or browser for free but make sure to bring cash so you don’t miss out on any amazing finds! Burl
URL:https://tulipfestival.org/event/thriftopia/
LOCATION:900 E Fairhaven Ave\, Burlington\, WA\, 900 E Fairhaven Ave\, Burlington\, WA\, 98233\, United States
ATTACH;FMTTYPE=image/png:https://tulipfestival.org/wp-content/uploads/2025/12/Document.png
END:VEVENT
BEGIN:VEVENT
DTSTART;TZID=America/Los_Angeles:20260619T080000
DTEND;TZID=America/Los_Angeles:20260621T170000
DTSTAMP:20260422T150606
CREATED:20251210T195246Z
LAST-MODIFIED:20260318T080255Z
UID:10000103-1781856000-1782061200@tulipfestival.org
SUMMARY:Berry Dairy Days
DESCRIPTION:Experience the 89th Annual Berry Dairy Days – June 19–21 at Skagit River Park and Historic Downtown Burlington for three days of unforgettable summer fun! Taste world-famous strawberry shortcake\, cheer on the dazzling grand parade\, explore a lively vendor fair\, savor delicious local eats\, watch the thrilling Smoke & Grill Competition\, check out the Berry Cool Car Show\, and enjoy games and activities for all ages. Celebrate community\, culture\, and summer in Skagit County—make your visit one to remember at the 89th Berry Dairy Days! \nWebsite coming soon!
URL:https://tulipfestival.org/event/berry-dairy-days/
LOCATION:Skagit River Park & Playfields\, 1100 South Skagit Street\, Burlington\, WA\, 98233\, United States
END:VEVENT
END:VCALENDAR