BEGIN:VCALENDAR
VERSION:2.0
PRODID:-//Skagit Valley Tulip Festival - ECPv6.15.20//NONSGML v1.0//EN
CALSCALE:GREGORIAN
METHOD:PUBLISH
X-ORIGINAL-URL:https://tulipfestival.org
X-WR-CALDESC:Events for Skagit Valley Tulip Festival
REFRESH-INTERVAL;VALUE=DURATION:PT1H
X-Robots-Tag:noindex
X-PUBLISHED-TTL:PT1H
BEGIN:VTIMEZONE
TZID:America/Los_Angeles
BEGIN:DAYLIGHT
TZOFFSETFROM:-0800
TZOFFSETTO:-0700
TZNAME:PDT
DTSTART:20240310T100000
END:DAYLIGHT
BEGIN:STANDARD
TZOFFSETFROM:-0700
TZOFFSETTO:-0800
TZNAME:PST
DTSTART:20241103T090000
END:STANDARD
BEGIN:DAYLIGHT
TZOFFSETFROM:-0800
TZOFFSETTO:-0700
TZNAME:PDT
DTSTART:20250309T100000
END:DAYLIGHT
BEGIN:STANDARD
TZOFFSETFROM:-0700
TZOFFSETTO:-0800
TZNAME:PST
DTSTART:20251102T090000
END:STANDARD
BEGIN:DAYLIGHT
TZOFFSETFROM:-0800
TZOFFSETTO:-0700
TZNAME:PDT
DTSTART:20260308T100000
END:DAYLIGHT
BEGIN:STANDARD
TZOFFSETFROM:-0700
TZOFFSETTO:-0800
TZNAME:PST
DTSTART:20261101T090000
END:STANDARD
BEGIN:DAYLIGHT
TZOFFSETFROM:-0800
TZOFFSETTO:-0700
TZNAME:PDT
DTSTART:20270314T100000
END:DAYLIGHT
BEGIN:STANDARD
TZOFFSETFROM:-0700
TZOFFSETTO:-0800
TZNAME:PST
DTSTART:20271107T090000
END:STANDARD
END:VTIMEZONE
BEGIN:VEVENT
DTSTART;TZID=America/Los_Angeles:20260412T110000
DTEND;TZID=America/Los_Angeles:20260412T160000
DTSTAMP:20260422T205847
CREATED:20251120T180217Z
LAST-MODIFIED:20260402T184621Z
UID:10000283-1775991600-1776009600@tulipfestival.org
SUMMARY:Tulip Festival Art Exhibit (Anacortes)
DESCRIPTION:Our Tulip Festival Art Exhibits bring together stunning tulip-themed artwork created by talented local artists from across the region. Stroll through a vibrant collection of original paintings\, photography\, mixed media\, and more\, each piece capturing the color and spirit of tulip season. Visitors can vote for their favorite artwork and purchase available pieces to take home at a later date. \nTulip Festival Art Exhibit (Anacortes) – April 3-12\, 2026\nPresented by The Skagit Casino Resort \nLocation: Depot Arts Center\, 611 R Ave\, Anacortes\, WA 98221 \nDates: Saturday\, April 4th – Sunday\, April 12th \nHours: 11:00 a.m. – 4:00 p.m. \nAdmission: Free \nThis event is hosted in partnership with the Anacortes Arts Festival.
URL:https://tulipfestival.org/event/art-exhibit-anacortes/2026-04-12/
LOCATION:Depot Arts Center\, 611 R Ave\, Anacortes\, WA\, 98221\, United States
END:VEVENT
BEGIN:VEVENT
DTSTART;TZID=America/Los_Angeles:20260411T110000
DTEND;TZID=America/Los_Angeles:20260411T160000
DTSTAMP:20260422T205847
CREATED:20251120T180217Z
LAST-MODIFIED:20260402T184621Z
UID:10000282-1775905200-1775923200@tulipfestival.org
SUMMARY:Tulip Festival Art Exhibit (Anacortes)
DESCRIPTION:Our Tulip Festival Art Exhibits bring together stunning tulip-themed artwork created by talented local artists from across the region. Stroll through a vibrant collection of original paintings\, photography\, mixed media\, and more\, each piece capturing the color and spirit of tulip season. Visitors can vote for their favorite artwork and purchase available pieces to take home at a later date. \nTulip Festival Art Exhibit (Anacortes) – April 3-12\, 2026\nPresented by The Skagit Casino Resort \nLocation: Depot Arts Center\, 611 R Ave\, Anacortes\, WA 98221 \nDates: Saturday\, April 4th – Sunday\, April 12th \nHours: 11:00 a.m. – 4:00 p.m. \nAdmission: Free \nThis event is hosted in partnership with the Anacortes Arts Festival.
URL:https://tulipfestival.org/event/art-exhibit-anacortes/2026-04-11/
LOCATION:Depot Arts Center\, 611 R Ave\, Anacortes\, WA\, 98221\, United States
END:VEVENT
BEGIN:VEVENT
DTSTART;TZID=America/Los_Angeles:20260410T110000
DTEND;TZID=America/Los_Angeles:20260410T160000
DTSTAMP:20260422T205847
CREATED:20251120T180217Z
LAST-MODIFIED:20260402T184621Z
UID:10000281-1775818800-1775836800@tulipfestival.org
SUMMARY:Tulip Festival Art Exhibit (Anacortes)
DESCRIPTION:Our Tulip Festival Art Exhibits bring together stunning tulip-themed artwork created by talented local artists from across the region. Stroll through a vibrant collection of original paintings\, photography\, mixed media\, and more\, each piece capturing the color and spirit of tulip season. Visitors can vote for their favorite artwork and purchase available pieces to take home at a later date. \nTulip Festival Art Exhibit (Anacortes) – April 3-12\, 2026\nPresented by The Skagit Casino Resort \nLocation: Depot Arts Center\, 611 R Ave\, Anacortes\, WA 98221 \nDates: Saturday\, April 4th – Sunday\, April 12th \nHours: 11:00 a.m. – 4:00 p.m. \nAdmission: Free \nThis event is hosted in partnership with the Anacortes Arts Festival.
URL:https://tulipfestival.org/event/art-exhibit-anacortes/2026-04-10/
LOCATION:Depot Arts Center\, 611 R Ave\, Anacortes\, WA\, 98221\, United States
END:VEVENT
BEGIN:VEVENT
DTSTART;TZID=America/Los_Angeles:20260409T110000
DTEND;TZID=America/Los_Angeles:20260409T160000
DTSTAMP:20260422T205847
CREATED:20251120T180217Z
LAST-MODIFIED:20260402T184621Z
UID:10000280-1775732400-1775750400@tulipfestival.org
SUMMARY:Tulip Festival Art Exhibit (Anacortes)
DESCRIPTION:Our Tulip Festival Art Exhibits bring together stunning tulip-themed artwork created by talented local artists from across the region. Stroll through a vibrant collection of original paintings\, photography\, mixed media\, and more\, each piece capturing the color and spirit of tulip season. Visitors can vote for their favorite artwork and purchase available pieces to take home at a later date. \nTulip Festival Art Exhibit (Anacortes) – April 3-12\, 2026\nPresented by The Skagit Casino Resort \nLocation: Depot Arts Center\, 611 R Ave\, Anacortes\, WA 98221 \nDates: Saturday\, April 4th – Sunday\, April 12th \nHours: 11:00 a.m. – 4:00 p.m. \nAdmission: Free \nThis event is hosted in partnership with the Anacortes Arts Festival.
URL:https://tulipfestival.org/event/art-exhibit-anacortes/2026-04-09/
LOCATION:Depot Arts Center\, 611 R Ave\, Anacortes\, WA\, 98221\, United States
END:VEVENT
BEGIN:VEVENT
DTSTART;TZID=America/Los_Angeles:20260408T110000
DTEND;TZID=America/Los_Angeles:20260408T160000
DTSTAMP:20260422T205847
CREATED:20251120T180217Z
LAST-MODIFIED:20260402T184621Z
UID:10000279-1775646000-1775664000@tulipfestival.org
SUMMARY:Tulip Festival Art Exhibit (Anacortes)
DESCRIPTION:Our Tulip Festival Art Exhibits bring together stunning tulip-themed artwork created by talented local artists from across the region. Stroll through a vibrant collection of original paintings\, photography\, mixed media\, and more\, each piece capturing the color and spirit of tulip season. Visitors can vote for their favorite artwork and purchase available pieces to take home at a later date. \nTulip Festival Art Exhibit (Anacortes) – April 3-12\, 2026\nPresented by The Skagit Casino Resort \nLocation: Depot Arts Center\, 611 R Ave\, Anacortes\, WA 98221 \nDates: Saturday\, April 4th – Sunday\, April 12th \nHours: 11:00 a.m. – 4:00 p.m. \nAdmission: Free \nThis event is hosted in partnership with the Anacortes Arts Festival.
URL:https://tulipfestival.org/event/art-exhibit-anacortes/2026-04-08/
LOCATION:Depot Arts Center\, 611 R Ave\, Anacortes\, WA\, 98221\, United States
END:VEVENT
BEGIN:VEVENT
DTSTART;TZID=America/Los_Angeles:20260407T110000
DTEND;TZID=America/Los_Angeles:20260407T160000
DTSTAMP:20260422T205847
CREATED:20251120T180217Z
LAST-MODIFIED:20260402T184621Z
UID:10000278-1775559600-1775577600@tulipfestival.org
SUMMARY:Tulip Festival Art Exhibit (Anacortes)
DESCRIPTION:Our Tulip Festival Art Exhibits bring together stunning tulip-themed artwork created by talented local artists from across the region. Stroll through a vibrant collection of original paintings\, photography\, mixed media\, and more\, each piece capturing the color and spirit of tulip season. Visitors can vote for their favorite artwork and purchase available pieces to take home at a later date. \nTulip Festival Art Exhibit (Anacortes) – April 3-12\, 2026\nPresented by The Skagit Casino Resort \nLocation: Depot Arts Center\, 611 R Ave\, Anacortes\, WA 98221 \nDates: Saturday\, April 4th – Sunday\, April 12th \nHours: 11:00 a.m. – 4:00 p.m. \nAdmission: Free \nThis event is hosted in partnership with the Anacortes Arts Festival.
URL:https://tulipfestival.org/event/art-exhibit-anacortes/2026-04-07/
LOCATION:Depot Arts Center\, 611 R Ave\, Anacortes\, WA\, 98221\, United States
END:VEVENT
BEGIN:VEVENT
DTSTART;TZID=America/Los_Angeles:20260406T110000
DTEND;TZID=America/Los_Angeles:20260406T160000
DTSTAMP:20260422T205847
CREATED:20251120T180217Z
LAST-MODIFIED:20260402T184621Z
UID:10000277-1775473200-1775491200@tulipfestival.org
SUMMARY:Tulip Festival Art Exhibit (Anacortes)
DESCRIPTION:Our Tulip Festival Art Exhibits bring together stunning tulip-themed artwork created by talented local artists from across the region. Stroll through a vibrant collection of original paintings\, photography\, mixed media\, and more\, each piece capturing the color and spirit of tulip season. Visitors can vote for their favorite artwork and purchase available pieces to take home at a later date. \nTulip Festival Art Exhibit (Anacortes) – April 3-12\, 2026\nPresented by The Skagit Casino Resort \nLocation: Depot Arts Center\, 611 R Ave\, Anacortes\, WA 98221 \nDates: Saturday\, April 4th – Sunday\, April 12th \nHours: 11:00 a.m. – 4:00 p.m. \nAdmission: Free \nThis event is hosted in partnership with the Anacortes Arts Festival.
URL:https://tulipfestival.org/event/art-exhibit-anacortes/2026-04-06/
LOCATION:Depot Arts Center\, 611 R Ave\, Anacortes\, WA\, 98221\, United States
END:VEVENT
BEGIN:VEVENT
DTSTART;TZID=America/Los_Angeles:20260405T110000
DTEND;TZID=America/Los_Angeles:20260405T160000
DTSTAMP:20260422T205847
CREATED:20251120T180217Z
LAST-MODIFIED:20260402T184621Z
UID:10000276-1775386800-1775404800@tulipfestival.org
SUMMARY:Tulip Festival Art Exhibit (Anacortes)
DESCRIPTION:Our Tulip Festival Art Exhibits bring together stunning tulip-themed artwork created by talented local artists from across the region. Stroll through a vibrant collection of original paintings\, photography\, mixed media\, and more\, each piece capturing the color and spirit of tulip season. Visitors can vote for their favorite artwork and purchase available pieces to take home at a later date. \nTulip Festival Art Exhibit (Anacortes) – April 3-12\, 2026\nPresented by The Skagit Casino Resort \nLocation: Depot Arts Center\, 611 R Ave\, Anacortes\, WA 98221 \nDates: Saturday\, April 4th – Sunday\, April 12th \nHours: 11:00 a.m. – 4:00 p.m. \nAdmission: Free \nThis event is hosted in partnership with the Anacortes Arts Festival.
URL:https://tulipfestival.org/event/art-exhibit-anacortes/2026-04-05/
LOCATION:Depot Arts Center\, 611 R Ave\, Anacortes\, WA\, 98221\, United States
END:VEVENT
BEGIN:VEVENT
DTSTART;TZID=America/Los_Angeles:20260404T110000
DTEND;TZID=America/Los_Angeles:20260404T160000
DTSTAMP:20260422T205847
CREATED:20251120T180217Z
LAST-MODIFIED:20260402T184621Z
UID:10000275-1775300400-1775318400@tulipfestival.org
SUMMARY:Tulip Festival Art Exhibit (Anacortes)
DESCRIPTION:Our Tulip Festival Art Exhibits bring together stunning tulip-themed artwork created by talented local artists from across the region. Stroll through a vibrant collection of original paintings\, photography\, mixed media\, and more\, each piece capturing the color and spirit of tulip season. Visitors can vote for their favorite artwork and purchase available pieces to take home at a later date. \nTulip Festival Art Exhibit (Anacortes) – April 3-12\, 2026\nPresented by The Skagit Casino Resort \nLocation: Depot Arts Center\, 611 R Ave\, Anacortes\, WA 98221 \nDates: Saturday\, April 4th – Sunday\, April 12th \nHours: 11:00 a.m. – 4:00 p.m. \nAdmission: Free \nThis event is hosted in partnership with the Anacortes Arts Festival.
URL:https://tulipfestival.org/event/art-exhibit-anacortes/2026-04-04/
LOCATION:Depot Arts Center\, 611 R Ave\, Anacortes\, WA\, 98221\, United States
END:VEVENT
BEGIN:VEVENT
DTSTART;TZID=America/Los_Angeles:20260403T180000
DTEND;TZID=America/Los_Angeles:20260403T200000
DTSTAMP:20260422T205847
CREATED:20260305T174259Z
LAST-MODIFIED:20260402T184422Z
UID:10000302-1775239200-1775246400@tulipfestival.org
SUMMARY:Tulip Festival Art Exhibit Opening (Anacortes)
DESCRIPTION:The 2026 Tulip Festival Art Exhibits are presented by The Skagit Casino Resort. \nOur Tulip Festival Art Exhibit Opening Event in Anacortes marks the official kickoff of this year’s exhibit! We invite visitors to be among the first to experience a stunning collection of tulip-themed artwork created by talented local artists from across the region. Stroll through original paintings\, photography\, mixed media\, and more—each piece capturing the color and spirit of tulip season. \nMeet some of the artists behind the artwork\, enjoy light snacks\, and cast your vote for your favorite piece. Select works will be available for purchase\, with artwork to be collected at a later date. Join us for an inspiring evening celebrating creativity\, community\, and the beauty of tulip season. \nAdmission: Free \nThis event is hosted in partnership with the Anacortes Arts Festival.
URL:https://tulipfestival.org/event/art-exhibit-anacortes-opening-night/
LOCATION:Depot Arts Center\, 611 R Ave\, Anacortes\, WA\, 98221\, United States
END:VEVENT
BEGIN:VEVENT
DTSTART;TZID=America/Los_Angeles:20250418T080000
DTEND;TZID=America/Los_Angeles:20250427T170000
DTSTAMP:20260422T205847
CREATED:20250129T192950Z
LAST-MODIFIED:20260318T081116Z
UID:10000056-1744963200-1745773200@tulipfestival.org
SUMMARY:Anacortes Nautical Treasure Hunt
DESCRIPTION:Mark your calendars for the return of the Anacortes Nautical Treasure Hunt\, brought to you by the Anacortes Arts Festival and Anacortes Chamber of Commerce! \nStarting April 18 through April 27\, treasure hunters (visitors and locals) will set out to explore the island in search of prize balls hidden throughout Anacortes. If a treasure hunter finds a prize ball\, they can exchange it for an artist-created nautical treasure at a number of retail partners. Every day of the treasure hunt\, there will be at least 10 plastic prize balls hidden in parks and businesses in Anacortes. \nLocal artists will create nautical art pieces\, such as ceramic star fish\, whale tiles\, glass seashells\, and more for our prize ball finders.
URL:https://tulipfestival.org/event/anacortes-nautical-treasure-hunt/
LOCATION:Anacortes Chamber of Commerce\, 819 Commercial Ave STE F\, Anacortes\, WA\, 98221\, United States
ATTACH;FMTTYPE=image/jpeg:https://tulipfestival.org/wp-content/uploads/2025/01/NauticalTreasureHuntFinal-e1739557511425.jpg
END:VEVENT
END:VCALENDAR